BEGIN:VCALENDAR
VERSION:2.0
PRODID:-//hacksw/handcal//NONSGML v1.0//EN
CALSCALE:GREGORIAN
BEGIN:VEVENT
DTEND:20260521T220000Z
UID:69e98ba1799b1
DTSTAMP:20260423T040153Z
LOCATION:2491 Neufeld an der Leitha
DESCRIPTION:Wertungen und Altersklassen nach Vorgaben des Veranstalters.

URL;VALUE=URI:
SUMMARY:Businessrun Challenge2B Neufelder See 2026
DTSTART:20260521T170000Z
END:VEVENT
END:VCALENDAR
An internal server error occurred.