BEGIN:VCALENDAR
VERSION:2.0
PRODID:-//hacksw/handcal//NONSGML v1.0//EN
CALSCALE:GREGORIAN
BEGIN:VEVENT
DTEND:20260613T225959Z
UID:69e8635c35acc
DTSTAMP:20260422T065748Z
LOCATION:8010 Graz
DESCRIPTION:Wertungen und Altersklassen nach Vorgaben des Veranstalters.

URL;VALUE=URI:
SUMMARY:Merkur Grazathlon 2026
DTSTART:20260612T150000Z
END:VEVENT
END:VCALENDAR
An internal server error occurred.