BEGIN:VCALENDAR
VERSION:2.0
PRODID:-//hacksw/handcal//NONSGML v1.0//EN
CALSCALE:GREGORIAN
BEGIN:VEVENT
DTEND:20250720T225959Z
UID:69ed906f801c8
DTSTAMP:20260426T051127Z
LOCATION:8790 Eisenerz
DESCRIPTION:
URL;VALUE=URI:
SUMMARY:Erzberg Adventure Days - Erzberg Dirtrun und AT&S Vertical Iron Sprint
DTSTART:20250719T080000Z
END:VEVENT
END:VCALENDAR
An internal server error occurred.