BEGIN:VCALENDAR
VERSION:2.0
PRODID:-//hacksw/handcal//NONSGML v1.0//EN
CALSCALE:GREGORIAN
BEGIN:VEVENT
DTEND:20220528T230000Z
UID:69ebe86d5a5fe
DTSTAMP:20260424T230221Z
LOCATION:95326 Zandvoort
DESCRIPTION:
URL;VALUE=URI:
SUMMARY:Spartan - Zandvoort Amsterdam 28. bis 29.05.22
DTSTART:20220527T230000Z
END:VEVENT
END:VCALENDAR
An internal server error occurred.