BEGIN:VCALENDAR
VERSION:2.0
PRODID:-//hacksw/handcal//NONSGML v1.0//EN
CALSCALE:GREGORIAN
BEGIN:VEVENT
DTEND:20220625T230000Z
UID:69eb019f04391
DTSTAMP:20260424T063735Z
LOCATION:10000 Dolomites - Civetta Alleghe
DESCRIPTION:
URL;VALUE=URI:
SUMMARY:Spartan -  Dolomites - Civetta Alleghe 25. bis 26.06.22
DTSTART:20220624T230000Z
END:VEVENT
END:VCALENDAR
An internal server error occurred.