BEGIN:VCALENDAR
VERSION:2.0
PRODID:-//hacksw/handcal//NONSGML v1.0//EN
CALSCALE:GREGORIAN
BEGIN:VEVENT
DTEND:20220910T230000Z
UID:69ed665339073
DTSTAMP:20260426T021147Z
LOCATION:5710 Kaprun - Zell am See 
DESCRIPTION:
URL;VALUE=URI:
SUMMARY:Spartan Sommer Zell am See Kaprun 09. bis 11.09.22
DTSTART:20220908T230000Z
END:VEVENT
END:VCALENDAR
An internal server error occurred.