BEGIN:VCALENDAR
VERSION:2.0
PRODID:-//hacksw/handcal//NONSGML v1.0//EN
CALSCALE:GREGORIAN
BEGIN:VEVENT
DTEND:20210506T220000Z
UID:69ed74adbe443
DTSTAMP:20260426T031301Z
LOCATION:4810 Gmunden
DESCRIPTION:Österreichische Firmenlaufmeisterschaft. Österreichs Wirtschaft ist ein wesentlicher Faktor für unseren Wohlstand und das Rückgrat unserer Gesellschaft. Nur mit gesunden und hoch motivierten MitarbeiterInnen lässt sich dieser Umstand halten und auch ausbauen.Teamwork\, Bewegung und Spaß heißt es bei business2run. Wir möchten alle MitarbeiterInnen Salzburger Unternehmen motivieren\, gemeinsam mit ArbeitskollegInnen bei den von uns angebotenen Firmenläufe an den Start zu gehen.

Wertungen und Altersklassen nach Vorgaben des Veranstalters.

Sollten Sie Fragen zu Ihrem Ergebnis haben wenden Sie sich bitte per E-Mail an timing@maxfunsports.com

Absage lt. Veranstalter am 13.4.2021

URL;VALUE=URI:
SUMMARY:business2run Salzkammergut (Gmunden) 2021 - Abgesagt
DTSTART:20210506T181500Z
END:VEVENT
END:VCALENDAR
An internal server error occurred.