BEGIN:VCALENDAR
VERSION:2.0
PRODID:-//hacksw/handcal//NONSGML v1.0//EN
CALSCALE:GREGORIAN
BEGIN:VEVENT
DTEND:20201003T230000Z
UID:69ed21333a2b3
DTSTAMP:20260425T211651Z
LOCATION:95326 Zandvoort
DESCRIPTION:
URL;VALUE=URI:
SUMMARY:Spartan Zandvoort - Amsterdam 3. bis 4.10.20 (abgesagt)
DTSTART:20201002T230000Z
END:VEVENT
END:VCALENDAR
An internal server error occurred.