BEGIN:VCALENDAR
VERSION:2.0
PRODID:-//hacksw/handcal//NONSGML v1.0//EN
CALSCALE:GREGORIAN
BEGIN:VEVENT
DTEND:20210116T230000Z
UID:69ed6bc54ebb6
DTSTAMP:20260426T023501Z
LOCATION:5710 Kaprun - Zell am See 
DESCRIPTION:
URL;VALUE=URI:
SUMMARY:Spartan -  Kaprun - Zell am See 16. bis 17.01.21 (abgesagt)
DTSTART:20210115T230000Z
END:VEVENT
END:VCALENDAR
An internal server error occurred.