BEGIN:VCALENDAR
VERSION:2.0
PRODID:-//hacksw/handcal//NONSGML v1.0//EN
CALSCALE:GREGORIAN
BEGIN:VEVENT
DTEND:20200927T225900Z
UID:69ed939bb7063
DTSTAMP:20260426T052459Z
LOCATION:8301 Laßnitzhöhe
DESCRIPTION:Wertungen und Altersklassen nach Vorgaben des Veranstalters.
Sollten Sie Fragen zu Ihrem Ergebnis haben wenden Sie sich bitte per E-Mail an timing@maxfunsports.com

(Absage lt. Veranstalter am 9.7.2020)

URL;VALUE=URI:
SUMMARY:Lieblingslauf & Familienlauf mit Kidsbewerbe - ABGESAGT
DTSTART:20200927T110000Z
END:VEVENT
END:VCALENDAR
An internal server error occurred.