BEGIN:VCALENDAR
VERSION:2.0
PRODID:-//hacksw/handcal//NONSGML v1.0//EN
CALSCALE:GREGORIAN
BEGIN:VEVENT
DTEND:20200509T225900Z
UID:69eadb5d33f16
DTSTAMP:20260424T035421Z
LOCATION:1100 Wien
DESCRIPTION:Wertungen und Altersklassen nach Vorgaben des Veranstalters.
Sollten Sie Fragen zu Ihrem Ergebnis haben wenden Sie sich bitte per E-Mail an timing@maxfunsports.com
zählt zu Wien Läuft 2020 - Wien Läuft Ranking-Programmierung MaxFun Sports

URL;VALUE=URI:
SUMMARY:Favoritner Bezirkslauf (ABGESAGT)
DTSTART:20200509T080000Z
END:VEVENT
END:VCALENDAR
An internal server error occurred.