BEGIN:VCALENDAR
VERSION:2.0
PRODID:-//hacksw/handcal//NONSGML v1.0//EN
CALSCALE:GREGORIAN
BEGIN:VEVENT
DTEND:20200913T225900Z
UID:69e4d3718dfd3
DTSTAMP:20260419T140657Z
LOCATION:4550 Kremsmünster
DESCRIPTION:Wertungen und Altersklassen nach Vorgaben des Veranstalters.
Die BewerbeNordic Walking und Genusslauf erfolgten ohne Zeitnehmung. TeilnehmerInnen sind daher alphabetisch aufgelistet.
Sollten Sie Fragen zu Ihrem Ergebnis haben wenden Sie sich bitte per E-Mail an timing@maxfunsports.com

(verschoben - vormals 29.03.20\, Absage lt. Veranstalter 7.7.2020)

URL;VALUE=URI:
SUMMARY:Marktlauf Kremsmünster - ABGESAGT
DTSTART:20200913T100000Z
END:VEVENT
END:VCALENDAR
An internal server error occurred.