BEGIN:VCALENDAR
VERSION:2.0
PRODID:-//hacksw/handcal//NONSGML v1.0//EN
CALSCALE:GREGORIAN
BEGIN:VEVENT
DTEND:20200627T230000Z
UID:69ebdf55a9801
DTSTAMP:20260424T222333Z
LOCATION:10000 Dolomites - Civetta Alleghe
DESCRIPTION:
URL;VALUE=URI:
SUMMARY:Spartan -  Dolomites - Civetta Alleghe 27. bis 28. Juni (abgesagt)
DTSTART:20200626T230000Z
END:VEVENT
END:VCALENDAR
An internal server error occurred.