BEGIN:VCALENDAR
VERSION:2.0
PRODID:-//hacksw/handcal//NONSGML v1.0//EN
CALSCALE:GREGORIAN
BEGIN:VEVENT
DTEND:20200914T220000Z
UID:69ed3db991780
DTSTAMP:20260425T231833Z
LOCATION:4810 Gmunden
DESCRIPTION:
URL;VALUE=URI:
SUMMARY:business2run Salzkammergut (Gmunden) abgesagt
DTSTART:20200914T181500Z
END:VEVENT
END:VCALENDAR
An internal server error occurred.