BEGIN:VCALENDAR
VERSION:2.0
PRODID:-//hacksw/handcal//NONSGML v1.0//EN
CALSCALE:GREGORIAN
BEGIN:VEVENT
DTEND:20260926T230000Z
UID:69e723779bc9c
DTSTAMP:20260421T081255Z
LOCATION:1010 Wien
DESCRIPTION:
URL;VALUE=URI:
SUMMARY:Run for Hope
DTSTART:20260926T230000Z
END:VEVENT
END:VCALENDAR
An internal server error occurred.