BEGIN:VCALENDAR
VERSION:2.0
PRODID:-//hacksw/handcal//NONSGML v1.0//EN
CALSCALE:GREGORIAN
BEGIN:VEVENT
DTEND:20260925T230000Z
UID:69e7237742ae1
DTSTAMP:20260421T081255Z
LOCATION:7312 Unterpetersdorf
DESCRIPTION:
URL;VALUE=URI:
SUMMARY:Feuerwehrlauf Unterpetersdorf
DTSTART:20260925T230000Z
END:VEVENT
END:VCALENDAR
An internal server error occurred.