BEGIN:VCALENDAR
VERSION:2.0
PRODID:-//hacksw/handcal//NONSGML v1.0//EN
CALSCALE:GREGORIAN
BEGIN:VEVENT
DTEND:20260925T230000Z
UID:69e7c6e97a413
DTSTAMP:20260421T195017Z
LOCATION:8282 Bad Loipersdorf 
DESCRIPTION:
URL;VALUE=URI:
SUMMARY:Buschenschanklauf Bad Loipersdorfer
DTSTART:20260925T230000Z
END:VEVENT
END:VCALENDAR
An internal server error occurred.