BEGIN:VCALENDAR
VERSION:2.0
PRODID:-//hacksw/handcal//NONSGML v1.0//EN
CALSCALE:GREGORIAN
BEGIN:VEVENT
DTEND:20260919T230000Z
UID:69e6e47cee6fe
DTSTAMP:20260421T034412Z
LOCATION:2483 Ebreichsdorf
DESCRIPTION:
URL;VALUE=URI:
SUMMARY:Ebreichsdorfer Stadtlauf
DTSTART:20260919T230000Z
END:VEVENT
END:VCALENDAR
An internal server error occurred.