BEGIN:VCALENDAR
VERSION:2.0
PRODID:-//hacksw/handcal//NONSGML v1.0//EN
CALSCALE:GREGORIAN
BEGIN:VEVENT
DTEND:20260918T230000Z
UID:69e723772cc8a
DTSTAMP:20260421T081255Z
LOCATION:3435 Zwentendorf
DESCRIPTION:
URL;VALUE=URI:
SUMMARY:Zwentendorfer Donaulauf
DTSTART:20260918T230000Z
END:VEVENT
END:VCALENDAR
An internal server error occurred.