BEGIN:VCALENDAR
VERSION:2.0
PRODID:-//hacksw/handcal//NONSGML v1.0//EN
CALSCALE:GREGORIAN
BEGIN:VEVENT
DTEND:20260911T230000Z
UID:69e70c4684a68
DTSTAMP:20260421T063358Z
LOCATION:8010 Graz
DESCRIPTION:
URL;VALUE=URI:
SUMMARY:Summer Run Graz
DTSTART:20260911T230000Z
END:VEVENT
END:VCALENDAR
An internal server error occurred.