BEGIN:VCALENDAR
VERSION:2.0
PRODID:-//hacksw/handcal//NONSGML v1.0//EN
CALSCALE:GREGORIAN
BEGIN:VEVENT
DTEND:20260905T230000Z
UID:69e6dbc225897
DTSTAMP:20260421T030658Z
LOCATION:2521 Trumau
DESCRIPTION:
URL;VALUE=URI:
SUMMARY:Trumauer Lauferlebnis
DTSTART:20260905T230000Z
END:VEVENT
END:VCALENDAR
An internal server error occurred.