BEGIN:VCALENDAR
VERSION:2.0
PRODID:-//hacksw/handcal//NONSGML v1.0//EN
CALSCALE:GREGORIAN
BEGIN:VEVENT
DTEND:20260905T230000Z
UID:69ecf42b8641c
DTSTAMP:20260425T180443Z
LOCATION:310 St. Pölten
DESCRIPTION:
URL;VALUE=URI:
SUMMARY:Niederösterreichischer Frauenlauf
DTSTART:20260905T230000Z
END:VEVENT
END:VCALENDAR
An internal server error occurred.