BEGIN:VCALENDAR
VERSION:2.0
PRODID:-//hacksw/handcal//NONSGML v1.0//EN
CALSCALE:GREGORIAN
BEGIN:VEVENT
DTEND:20260904T230000Z
UID:69e723786ff29
DTSTAMP:20260421T081256Z
LOCATION:7361 Lutzmannsburg
DESCRIPTION:
URL;VALUE=URI:
SUMMARY:Family Run Lutzmannsburg
DTSTART:20260904T230000Z
END:VEVENT
END:VCALENDAR
An internal server error occurred.