BEGIN:VCALENDAR
VERSION:2.0
PRODID:-//hacksw/handcal//NONSGML v1.0//EN
CALSCALE:GREGORIAN
BEGIN:VEVENT
DTEND:20260815T230000Z
UID:69e70c466e04c
DTSTAMP:20260421T063358Z
LOCATION:1220 Wien
DESCRIPTION:
URL;VALUE=URI:
SUMMARY:Wiener Sommerlauf
DTSTART:20260815T230000Z
END:VEVENT
END:VCALENDAR
An internal server error occurred.