BEGIN:VCALENDAR
VERSION:2.0
PRODID:-//hacksw/handcal//NONSGML v1.0//EN
CALSCALE:GREGORIAN
BEGIN:VEVENT
DTEND:20260814T230000Z
UID:69e70c462bd7a
DTSTAMP:20260421T063358Z
LOCATION:4451 Mühlbach Garsten
DESCRIPTION:
URL;VALUE=URI:
SUMMARY:Mühlbacher Ortsrundenlauf
DTSTART:20260814T230000Z
END:VEVENT
END:VCALENDAR
An internal server error occurred.