BEGIN:VCALENDAR
VERSION:2.0
PRODID:-//hacksw/handcal//NONSGML v1.0//EN
CALSCALE:GREGORIAN
BEGIN:VEVENT
DTEND:20260717T230000Z
UID:69e75af06eaa3
DTSTAMP:20260421T120936Z
LOCATION:9761 Greifenburg
DESCRIPTION:
URL;VALUE=URI:
SUMMARY:Lauf zum Gaugenschutzhaus
DTSTART:20260717T230000Z
END:VEVENT
END:VCALENDAR
An internal server error occurred.