BEGIN:VCALENDAR
VERSION:2.0
PRODID:-//hacksw/handcal//NONSGML v1.0//EN
CALSCALE:GREGORIAN
BEGIN:VEVENT
DTEND:20260627T230000Z
UID:69e5cc3c51779
DTSTAMP:20260420T074828Z
LOCATION:9173 St. Margareten im Rosental
DESCRIPTION:
URL;VALUE=URI:
SUMMARY:Schwarzgupfberglauf
DTSTART:20260627T230000Z
END:VEVENT
END:VCALENDAR
An internal server error occurred.