BEGIN:VCALENDAR
VERSION:2.0
PRODID:-//hacksw/handcal//NONSGML v1.0//EN
CALSCALE:GREGORIAN
BEGIN:VEVENT
DTEND:20260627T230000Z
UID:69e5cc3c3b4be
DTSTAMP:20260420T074828Z
LOCATION:3485 Grafenegg
DESCRIPTION:
URL;VALUE=URI:
SUMMARY:Frauenlauf Grafenegg
DTSTART:20260627T230000Z
END:VEVENT
END:VCALENDAR
An internal server error occurred.