BEGIN:VCALENDAR
VERSION:2.0
PRODID:-//hacksw/handcal//NONSGML v1.0//EN
CALSCALE:GREGORIAN
BEGIN:VEVENT
DTEND:20260626T230000Z
UID:69e5cc3c67da4
DTSTAMP:20260420T074828Z
LOCATION:2273 Rabensburg
DESCRIPTION:
URL;VALUE=URI:
SUMMARY:Rabensburger Schlosslauf
DTSTART:20260626T230000Z
END:VEVENT
END:VCALENDAR
An internal server error occurred.