BEGIN:VCALENDAR
VERSION:2.0
PRODID:-//hacksw/handcal//NONSGML v1.0//EN
CALSCALE:GREGORIAN
BEGIN:VEVENT
DTEND:20260620T230000Z
UID:69e70c461591a
DTSTAMP:20260421T063358Z
LOCATION:4723 Natternbach
DESCRIPTION:
URL;VALUE=URI:
SUMMARY:rundum Bewegungslauf
DTSTART:20260620T230000Z
END:VEVENT
END:VCALENDAR
An internal server error occurred.