BEGIN:VCALENDAR
VERSION:2.0
PRODID:-//hacksw/handcal//NONSGML v1.0//EN
CALSCALE:GREGORIAN
BEGIN:VEVENT
DTEND:20260612T230000Z
UID:69e5b60dd9b08
DTSTAMP:20260420T061349Z
LOCATION:6900 Bregenz
DESCRIPTION:
URL;VALUE=URI:
SUMMARY:Bodensee Frauenlauf
DTSTART:20260612T230000Z
END:VEVENT
END:VCALENDAR
An internal server error occurred.