BEGIN:VCALENDAR
VERSION:2.0
PRODID:-//hacksw/handcal//NONSGML v1.0//EN
CALSCALE:GREGORIAN
BEGIN:VEVENT
DTEND:20260612T230000Z
UID:69e5b60eef73b
DTSTAMP:20260420T061350Z
LOCATION:7503 Großpetersdorf
DESCRIPTION:
URL;VALUE=URI:
SUMMARY:Charity Night Run Großpetersdorf
DTSTART:20260612T230000Z
END:VEVENT
END:VCALENDAR
An internal server error occurred.