BEGIN:VCALENDAR
VERSION:2.0
PRODID:-//hacksw/handcal//NONSGML v1.0//EN
CALSCALE:GREGORIAN
BEGIN:VEVENT
DTEND:20260529T230000Z
UID:69e5c63a57dee
DTSTAMP:20260420T072250Z
LOCATION:8712 Niklasdorf
DESCRIPTION:
URL;VALUE=URI:
SUMMARY:Mugelberglauf
DTSTART:20260529T230000Z
END:VEVENT
END:VCALENDAR
An internal server error occurred.