BEGIN:VCALENDAR
VERSION:2.0
PRODID:-//hacksw/handcal//NONSGML v1.0//EN
CALSCALE:GREGORIAN
BEGIN:VEVENT
DTEND:20260527T230000Z
UID:69e5ad071dd2d
DTSTAMP:20260420T053519Z
LOCATION:9020 Klagenfurt
DESCRIPTION:
URL;VALUE=URI:
SUMMARY:Klagenfurter Altstadtlauf
DTSTART:20260527T230000Z
END:VEVENT
END:VCALENDAR
An internal server error occurred.