BEGIN:VCALENDAR
VERSION:2.0
PRODID:-//hacksw/handcal//NONSGML v1.0//EN
CALSCALE:GREGORIAN
BEGIN:VEVENT
DTEND:20260522T230000Z
UID:69e505ee85516
DTSTAMP:20260419T174222Z
LOCATION:4180 Zwettl an der Rodl
DESCRIPTION:
URL;VALUE=URI:
SUMMARY:Zwettler 7-Brückenlauf 
DTSTART:20260522T230000Z
END:VEVENT
END:VCALENDAR
An internal server error occurred.