BEGIN:VCALENDAR
VERSION:2.0
PRODID:-//hacksw/handcal//NONSGML v1.0//EN
CALSCALE:GREGORIAN
BEGIN:VEVENT
DTEND:20260612T230000Z
UID:69e5c63b422c3
DTSTAMP:20260420T072251Z
LOCATION:2741 Parndorf
DESCRIPTION:
URL;VALUE=URI:
SUMMARY:Parndorfer Straßenlauf
DTSTART:20260612T230000Z
END:VEVENT
END:VCALENDAR
An internal server error occurred.