BEGIN:VCALENDAR
VERSION:2.0
PRODID:-//hacksw/handcal//NONSGML v1.0//EN
CALSCALE:GREGORIAN
BEGIN:VEVENT
DTEND:20260606T230000Z
UID:69e5c63a41640
DTSTAMP:20260420T072250Z
LOCATION:2523 Tattendorf
DESCRIPTION:
URL;VALUE=URI:
SUMMARY:St. Laurent Lauf Tattendorf
DTSTART:20260606T230000Z
END:VEVENT
END:VCALENDAR
An internal server error occurred.