BEGIN:VCALENDAR
VERSION:2.0
PRODID:-//hacksw/handcal//NONSGML v1.0//EN
CALSCALE:GREGORIAN
BEGIN:VEVENT
DTEND:20260530T230000Z
UID:69e5c639affe2
DTSTAMP:20260420T072249Z
LOCATION:9635 Dellach im Gailtal
DESCRIPTION:
URL;VALUE=URI:
SUMMARY:Lauf und Walkerlebnis Dellach
DTSTART:20260530T230000Z
END:VEVENT
END:VCALENDAR
An internal server error occurred.