BEGIN:VCALENDAR
VERSION:2.0
PRODID:-//hacksw/handcal//NONSGML v1.0//EN
CALSCALE:GREGORIAN
BEGIN:VEVENT
DTEND:20260529T230000Z
UID:69e5c63bb1230
DTSTAMP:20260420T072251Z
LOCATION:3370 Ybbs an der Donau
DESCRIPTION:
URL;VALUE=URI:
SUMMARY:Ybbser Stadtlauf
DTSTART:20260529T230000Z
END:VEVENT
END:VCALENDAR
An internal server error occurred.