BEGIN:VCALENDAR
VERSION:2.0
PRODID:-//hacksw/handcal//NONSGML v1.0//EN
CALSCALE:GREGORIAN
BEGIN:VEVENT
DTEND:20260523T230000Z
UID:69e5c63d195d9
DTSTAMP:20260420T072253Z
LOCATION:4163 Klaffer am Hochficht
DESCRIPTION:
URL;VALUE=URI:
SUMMARY:Seenlauf Klaffer
DTSTART:20260523T230000Z
END:VEVENT
END:VCALENDAR
An internal server error occurred.