BEGIN:VCALENDAR
VERSION:2.0
PRODID:-//hacksw/handcal//NONSGML v1.0//EN
CALSCALE:GREGORIAN
BEGIN:VEVENT
DTEND:20260516T230000Z
UID:69e5c639f32f6
DTSTAMP:20260420T072249Z
LOCATION:9300 St. Veit an der Glan
DESCRIPTION:
URL;VALUE=URI:
SUMMARY:Sonnenlauf St. Veit an der Glan
DTSTART:20260516T230000Z
END:VEVENT
END:VCALENDAR
An internal server error occurred.