BEGIN:VCALENDAR
VERSION:2.0
PRODID:-//hacksw/handcal//NONSGML v1.0//EN
CALSCALE:GREGORIAN
BEGIN:VEVENT
DTEND:20260410T230000Z
UID:69ebe87cb2552
DTSTAMP:20260424T230236Z
LOCATION:3580 Horn
DESCRIPTION:
URL;VALUE=URI:
SUMMARY:Horner Stadtlauf
DTSTART:20260410T230000Z
END:VEVENT
END:VCALENDAR
An internal server error occurred.