BEGIN:VCALENDAR
VERSION:2.0
PRODID:-//hacksw/handcal//NONSGML v1.0//EN
CALSCALE:GREGORIAN
BEGIN:VEVENT
DTEND:20261003T230000Z
UID:69ed3dc02da68
DTSTAMP:20260425T231840Z
LOCATION:6020 Innsbruck
DESCRIPTION:
URL;VALUE=URI:
SUMMARY:13_13 – Das 24-Stunden-Laufevent in Innsbruck
DTSTART:20261002T230000Z
END:VEVENT
END:VCALENDAR
An internal server error occurred.