BEGIN:VCALENDAR
VERSION:2.0
PRODID:-//hacksw/handcal//NONSGML v1.0//EN
CALSCALE:GREGORIAN
BEGIN:VEVENT
DTEND:20261008T230000Z
UID:69e6fdf370bb9
DTSTAMP:20260421T053251Z
LOCATION:21450 Hvar
DESCRIPTION:
URL;VALUE=URI:
SUMMARY:Spartan Hvar
DTSTART:20261008T230000Z
END:VEVENT
END:VCALENDAR
An internal server error occurred.