BEGIN:VCALENDAR
VERSION:2.0
PRODID:-//hacksw/handcal//NONSGML v1.0//EN
CALSCALE:GREGORIAN
BEGIN:VEVENT
DTEND:20261002T230000Z
UID:69e6de352081e
DTSTAMP:20260421T031725Z
LOCATION:83530 Estérel Saint Raphael
DESCRIPTION:
URL;VALUE=URI:
SUMMARY:Spartan Estérel Saint Raphael
DTSTART:20261002T230000Z
END:VEVENT
END:VCALENDAR
An internal server error occurred.