BEGIN:VCALENDAR
VERSION:2.0
PRODID:-//hacksw/handcal//NONSGML v1.0//EN
CALSCALE:GREGORIAN
BEGIN:VEVENT
DTEND:20260821T230000Z
UID:69e615eda42ae
DTSTAMP:20260420T130253Z
LOCATION:15100 Lahti
DESCRIPTION:
URL;VALUE=URI:
SUMMARY:Spartan Lahti
DTSTART:20260821T230000Z
END:VEVENT
END:VCALENDAR
An internal server error occurred.