BEGIN:VCALENDAR
VERSION:2.0
PRODID:-//hacksw/handcal//NONSGML v1.0//EN
CALSCALE:GREGORIAN
BEGIN:VEVENT
DTEND:20260829T230000Z
UID:69e63b4d8bdbe
DTSTAMP:20260420T154221Z
LOCATION:10115 Berlin
DESCRIPTION:
URL;VALUE=URI:
SUMMARY:Spartan Berlin
DTSTART:20260829T230000Z
END:VEVENT
END:VCALENDAR
An internal server error occurred.