BEGIN:VCALENDAR
VERSION:2.0
PRODID:-//hacksw/handcal//NONSGML v1.0//EN
CALSCALE:GREGORIAN
BEGIN:VEVENT
DTEND:20260703T230000Z
UID:69e70ec777076
DTSTAMP:20260421T064439Z
LOCATION:945 01 Komarno
DESCRIPTION:
URL;VALUE=URI:
SUMMARY:Spartan Komárno
DTSTART:20260703T230000Z
END:VEVENT
END:VCALENDAR
An internal server error occurred.