BEGIN:VCALENDAR
VERSION:2.0
PRODID:-//hacksw/handcal//NONSGML v1.0//EN
CALSCALE:GREGORIAN
BEGIN:VEVENT
DTEND:20260717T230000Z
UID:69e859dfc4c45
DTSTAMP:20260422T061719Z
LOCATION:9700 Szombathely
DESCRIPTION:
URL;VALUE=URI:
SUMMARY:Spartan Szombathely
DTSTART:20260717T230000Z
END:VEVENT
END:VCALENDAR
An internal server error occurred.