BEGIN:VCALENDAR
VERSION:2.0
PRODID:-//hacksw/handcal//NONSGML v1.0//EN
CALSCALE:GREGORIAN
BEGIN:VEVENT
DTEND:20260605T230000Z
UID:69e59b5a18890
DTSTAMP:20260420T041954Z
LOCATION:AD100 Andorra
DESCRIPTION:
URL;VALUE=URI:
SUMMARY:Spartan Andorra
DTSTART:20260605T230000Z
END:VEVENT
END:VCALENDAR
An internal server error occurred.